BEGIN:VCALENDAR
VERSION:2.0
PRODID:icalendar-ruby
CALSCALE:GREGORIAN
METHOD:PUBLISH
BEGIN:VEVENT
DTSTAMP:20260422T160135Z
UID:10-1056230@elevationworshipministries.org
DTSTART:20260929T230000Z
DTEND:20260930T000000Z
CLASS:PUBLIC
CREATED:20260422T104028
DESCRIPTION:2 Timothy 2:15 declares\, “Study to show thyself approved unt
 o God\, a workman that needeth not be ashamed\, rightly dividing the word 
 of truth.”\nJoin us as we go forward with our weekly Bible Studies on Tu
 esday evenings at 7pm!\nCurrently being done via Zoom.
LAST-MODIFIED:20260422T104028
LOCATION:Weekly Bible Study
SUMMARY:Bible Study
URL;VALUE=URI:https://www.elevationworshipministries.org/events/bible-study
 /2026-09-29
ATTACH;FILENAME=ChatGPT-Image-Mar-10-2026-04_46_50-PM.png;FMTTYPE=image/png
 :https://dq5pwpg1q8ru0.cloudfront.net/2026/03/10/20/48/03/3ca81148-0c98-42
 f6-b18d-c1b85fa5fbe4/ChatGPT-Image-Mar-10-2026-04_46_50-PM.png
END:VEVENT
END:VCALENDAR
