BEGIN:VCALENDAR
VERSION:2.0
PRODID:icalendar-ruby
CALSCALE:GREGORIAN
METHOD:PUBLISH
BEGIN:VEVENT
DTSTAMP:20260425T222015Z
UID:21-987106@elevationworshipministries.org
DTSTART:20260608T130000Z
DTEND:20260612T190000Z
CLASS:PUBLIC
CREATED:20260407T184016
DESCRIPTION: Vacation Bible School is Coming! \nGet ready for an unforgetta
 ble week of faith\, fun\, and friendship! Our Vacation Bible School is des
 igned to help kids grow in their relationship with God while enjoying exci
 ting activities each day.\nFrom engaging Bible lessons and uplifting worsh
 ip to games\, crafts\, and laughter-filled moments\, every child will expe
 rience the love of Christ in a way they’ll never forget.\nThis is more t
 han just a summer event—it’s a chance for kids to discover their purpo
 se\, build lasting friendships\, and plant seeds of faith that will grow f
 or a lifetime.\n Dates: June 8-12\, 2026 Location: 123 N. 5th Street Cochr
 an\, GA Ages: 6-12\nSpots are limited\, so be sure to register soon!\nCome
  join us as we learn\, grow\, and celebrate God together! 
LAST-MODIFIED:20260407T184016
LOCATION:123 N. 5th St Cochran\, GA 31014
SUMMARY:Vacation Bible School
URL;VALUE=URI:https://www.elevationworshipministries.org/events/vacation-bi
 ble-school/2026-06-08
ATTACH;FILENAME=VBS-26.png;FMTTYPE=image/png:https://dq5pwpg1q8ru0.cloudfro
 nt.net/2026/04/07/22/40/16/927a3bf8-8e6c-4cef-b249-c45b26bcd687/VBS-26.png
END:VEVENT
END:VCALENDAR
